BEGIN:VCALENDAR
VERSION:2.0
PRODID:-//Proventa - ECPv6.15.20//NONSGML v1.0//EN
CALSCALE:GREGORIAN
METHOD:PUBLISH
X-ORIGINAL-URL:https://proventa.de
X-WR-CALDESC:Veranstaltungen für Proventa
REFRESH-INTERVAL;VALUE=DURATION:PT1H
X-Robots-Tag:noindex
X-PUBLISHED-TTL:PT1H
BEGIN:VTIMEZONE
TZID:Europe/Berlin
BEGIN:DAYLIGHT
TZOFFSETFROM:+0100
TZOFFSETTO:+0200
TZNAME:CEST
DTSTART:20220327T010000
END:DAYLIGHT
BEGIN:STANDARD
TZOFFSETFROM:+0200
TZOFFSETTO:+0100
TZNAME:CET
DTSTART:20221030T010000
END:STANDARD
BEGIN:DAYLIGHT
TZOFFSETFROM:+0100
TZOFFSETTO:+0200
TZNAME:CEST
DTSTART:20230326T010000
END:DAYLIGHT
BEGIN:STANDARD
TZOFFSETFROM:+0200
TZOFFSETTO:+0100
TZNAME:CET
DTSTART:20231029T010000
END:STANDARD
BEGIN:DAYLIGHT
TZOFFSETFROM:+0100
TZOFFSETTO:+0200
TZNAME:CEST
DTSTART:20240331T010000
END:DAYLIGHT
BEGIN:STANDARD
TZOFFSETFROM:+0200
TZOFFSETTO:+0100
TZNAME:CET
DTSTART:20241027T010000
END:STANDARD
BEGIN:DAYLIGHT
TZOFFSETFROM:+0100
TZOFFSETTO:+0200
TZNAME:CEST
DTSTART:20250330T010000
END:DAYLIGHT
BEGIN:STANDARD
TZOFFSETFROM:+0200
TZOFFSETTO:+0100
TZNAME:CET
DTSTART:20251026T010000
END:STANDARD
END:VTIMEZONE
BEGIN:VTIMEZONE
TZID:Europe/Madrid
BEGIN:DAYLIGHT
TZOFFSETFROM:+0100
TZOFFSETTO:+0200
TZNAME:CEST
DTSTART:20200329T010000
END:DAYLIGHT
BEGIN:STANDARD
TZOFFSETFROM:+0200
TZOFFSETTO:+0100
TZNAME:CET
DTSTART:20201025T010000
END:STANDARD
BEGIN:DAYLIGHT
TZOFFSETFROM:+0100
TZOFFSETTO:+0200
TZNAME:CEST
DTSTART:20210328T010000
END:DAYLIGHT
BEGIN:STANDARD
TZOFFSETFROM:+0200
TZOFFSETTO:+0100
TZNAME:CET
DTSTART:20211031T010000
END:STANDARD
BEGIN:DAYLIGHT
TZOFFSETFROM:+0100
TZOFFSETTO:+0200
TZNAME:CEST
DTSTART:20220327T010000
END:DAYLIGHT
BEGIN:STANDARD
TZOFFSETFROM:+0200
TZOFFSETTO:+0100
TZNAME:CET
DTSTART:20221030T010000
END:STANDARD
END:VTIMEZONE
BEGIN:VEVENT
DTSTART;VALUE=DATE:20241022
DTEND;VALUE=DATE:20241026
DTSTAMP:20260420T215549
CREATED:20240819T101156Z
LAST-MODIFIED:20240819T101623Z
UID:596494-1729555200-1729900799@proventa.de
SUMMARY:PostgreSQL Conference Europe 2024
DESCRIPTION:The 14th Annual PostgreSQL Conference Europe\nAuch dieses Jahr sind wir wieder als Silver Sponsor bei der PGConf.EU vertreten. \nWir freuen uns auf spannende Vorträge und neue Kontakte! \n  \nWann? – 22. – 25. Oktober 2024 \nWo? – Athen\, Griechenland \nhttps://2024.pgconf.eu
URL:https://proventa.de/event/postgresql-conference-europe-2024/
LOCATION:Divani Caravel Hotel\, Leof. Vasileos Alexandrou 2\, Athen\, 161 21
CATEGORIES:Display
ATTACH;FMTTYPE=image/png:https://proventa.de/wp-content/uploads/2024/08/PostgreSQL_logo.3colors.540x557.png
END:VEVENT
BEGIN:VEVENT
DTSTART;TZID=Europe/Berlin:20240619T163000
DTEND;TZID=Europe/Berlin:20240619T180000
DTSTAMP:20260420T215549
CREATED:20240606T153725Z
LAST-MODIFIED:20240606T164527Z
UID:596223-1718814600-1718820000@proventa.de
SUMMARY:Agile Space MeetUp: Fußball und Agile - Wie passt das zusammen?
DESCRIPTION:Sei bei unserem Erfahrungsaustausch mit Jan Siewert\, ehemaliger Trainer von Mainz 05\, dabei!\n  \nAnstoß: 19. Juni\, 16:30 Uhr \nOrt: Online \n  \nWir laden Sie herzlich ein\, sich mit uns auf eine faszinierende Reise zu begeben\, bei der wir die Welt des Fußballs mit den Prinzipien agilen Arbeitens in Unternehmen verbinden. \nIm Profisport werden täglich Höchstleistungen erbracht\, da das Versagen den Abstieg bedeuten kann. Ebenso müssen Unternehmen im globalen Wettbewerb und angesichts des rasanten technologischen Fortschritts stets einen Schritt voraus sein\, um langfristig erfolgreich zu sein. \nAgiles Arbeiten steht für kontinuierliche Verbesserung. Scrum ist eines der bekanntesten Management-Frameworks für agiles Arbeiten in Unternehmen. Auch hier gilt\, nach dem Sprint ist vor dem Sprint. \nAgile Teams in Unternehmen generieren Innovationen. Dadurch wird die Attraktivität für Mitarbeiter und Kunden erhöht und somit der Fortbestand des Unternehmens nachhaltig gesichert. \n  \nHighlights des Events: \n·     Erfahren Sie in einem Interview mit Jan Siewert\, welche Konzepte aus der Entwicklung und Führung von Hochleistungsteams im Fußball auf Unternehmen übertragbar sind. \n·     Gemeinsam werden wir herausfinden\, welche Prinzipien aus dem Profisport auf Teams in Unternehmen übertragbar sind und wie Organisationen davon profitieren können. \nSeien Sie dabei und lassen Sie sich inspirieren! \n  \nAgenda: \n16:30 – 16:45 Uhr: Begrüßung und Check-in \n16:45 – 17:15 Uhr: Interview mit Jan Siewert (ehemals Trainer von Mainz 05) \n17:15 – 17:55 Uhr:  Diskussion im Plenum \n17:55 – 18:00 Uhr: Zusammenfassung und Check-out \n  \nAnmeldung: \nDie Teilnahme an der Veranstaltung ist kostenlos. Bitte melden Sie sich schnellstmöglich an\, um Ihren Platz zu sichern. \nHier geht´s zur Anmeldung. \n  \nVeranstalter: \nProventa AG \nWir freuen uns auf Ihre Teilnahme!
URL:https://proventa.de/event/agile-space-meetup-fussball/
LOCATION:Privat: Online
CATEGORIES:Display
ATTACH;FMTTYPE=image/jpeg:https://proventa.de/wp-content/uploads/2024/06/Einladung-Agile-Space-mit-Jan-Siewert-Website-2.jpg
END:VEVENT
BEGIN:VEVENT
DTSTART;TZID=Europe/Berlin:20240412T090000
DTEND;TZID=Europe/Berlin:20240412T220000
DTSTAMP:20260420T215549
CREATED:20240410T104040Z
LAST-MODIFIED:20240410T104040Z
UID:596105-1712912400-1712959200@proventa.de
SUMMARY:PostgreSQL Conference  Germany
DESCRIPTION:The 8th Annual PostgreSQL Conference Germany\nAuch dieses Jahr sind wir wieder als Platinum Sponsor bei der PGConf.DE vertreten. \nWir freuen uns auf spannende Vorträge und neue Kontakte! \n  \nWann? – 12. April 2024 \nWo? – München\, Deutschland \n> https://2024.pgconf.de/
URL:https://proventa.de/event/postgresql-conference-germany/
LOCATION:MARRIOTT MUNICH CITY WEST\, LANDSBERGER STRASSE 156\, München\, Bayern\, 80687\, Deutschland
CATEGORIES:Display
ATTACH;FMTTYPE=image/png:https://proventa.de/wp-content/uploads/2024/04/PostgreSQL-Conference-Germany-.png
END:VEVENT
BEGIN:VEVENT
DTSTART;TZID=Europe/Berlin:20240125T093000
DTEND;TZID=Europe/Berlin:20240125T220000
DTSTAMP:20260420T215549
CREATED:20240117T135729Z
LAST-MODIFIED:20240117T135824Z
UID:595980-1706175000-1706220000@proventa.de
SUMMARY:POSTGRES BUSINESS SUMMIT
DESCRIPTION:Postgres Business Summit in Madrid\nAm 25. Januar 2024 lädt das Postgres Business Summit\, Unternehmen und Fachleute dazu ein\, tief in die faszinierende Welt der Datenbanken einzutauchen. Dieses Event findet in Madrid statt und verspricht\, eine inspirierende Plattform für den Austausch von Wissen und Erfahrungen im Bereich PostgreSQL zu bieten. \nDie Organisatoren des Events sind die Proventa AG und CYBERTEC. Die Zusammenarbeit verspricht eine Veranstaltung\, die nicht nur informative Vorträge und Präsentationen bietet\, sondern auch eine Gelegenheit zum Networking und zur Diskussion aktueller Trends in der Datenbankbranche schafft. \nMit erwarteten 30 Teilnehmern ist das Postgres Business Summit bewusst auf eine überschaubare Größe ausgerichtet\, um eine persönliche Interaktion und einen intensiven Erfahrungsaustausch zu ermöglichen. Diese begrenzte Teilnehmerzahl gewährleistet zudem\, dass jeder Einzelne die Möglichkeit hat\, sich aktiv einzubringen und von den Experten sowie anderen Teilnehmern zu lernen. \nFalls Sie Interesse an diesem spannenden Event haben\, ist eine Anmeldung weiterhin möglich. Nutzen Sie diese Chance\, um Ihr Verständnis für PostgreSQL zu vertiefen\, wertvolle Kontakte zu knüpfen und von den Erfahrungen der Branche zu profitieren. Der Postgres Business Summit verspricht eine einzigartige Gelegenheit\, in die Zukunft der Datenbanktechnologien einzutauchen. \n  \nMelden Sie sich noch heute an und seien Sie Teil dieses wegweisenden Events in Madrid! \n\nhttps://docs.google.com/forms/d/e/1FAIpQLScN2vifl9qXmsoHv_a8p1YxrA78KKpHzYKnOs6Jgc5ussGB9g/viewform
URL:https://proventa.de/event/postgres-business-summit/
LOCATION:https://www.granviavenue.com/\, Gran Vía 46\, Planta 2\, 28013\, Madrid\, Spanien
CATEGORIES:Display
ATTACH;FMTTYPE=image/png:https://proventa.de/wp-content/uploads/2024/01/PBS-2024.png
END:VEVENT
BEGIN:VEVENT
DTSTART;TZID=Europe/Berlin:20231102T190000
DTEND;TZID=Europe/Berlin:20231102T220000
DTSTAMP:20260420T215549
CREATED:20231019T084218Z
LAST-MODIFIED:20231019T084421Z
UID:595735-1698951600-1698962400@proventa.de
SUMMARY:MeetUp PUG: Was gibt es neues in PostgreSQL?
DESCRIPTION:Das zweite MeetUp für dieses Jahr! \nAm 02.11.2023 werden wir wieder zwei Vorträge zu PostgreSQL Themen vorstellen. Den ersten Vortrag halten Dirk Aumüller (Associate Partner) und Farouq Abdurrahman (Praktikant) von der Proventa AG. \nDirk Aumüllers technologischer Schwerpunkt liegt bei Datenbankarchitekturen mit PostgreSQL sowie Data Management Lösungen mit Pentaho. Zusätzlich zu seinen Datenbanktransformations-Projekteinsätzen ist er regelmäßig als PostgreSQL Trainer unterwegs und betreut Studenten bei ihren Abschlussarbeiten. Seine fachlichen Erfahrungen erstrecken sich über die Branchen Telco und Financial Services.\nFarouq Abdurrahman studiert Informatik an der Hochschule Darmstadt und ist jetzt in seinem letzten Semester. \nDen zweiten Vortrag hält Christoph Mönch-Tegeder. Er ist seit 20 Jahren überzeugter PostgreSQL – Nutzer\, zuerst als Anwendungs-Entwickler\, dann als Berater. Er arbeitet bei Accenture Technology und berät und trainiert Kunden bei allen Themen rund um PostgreSQL. \nNatürlich ist auch für Speis und Trank gesorgt.\nHerzlich laden wir Euch zu diesem MeetUp ein. \nAgenda: \n19:00 – 19:15 – Begrüßung \n19:15 – 20:15 – Vortrag Dirk Aumüller + Farouq Abdurrahman >> Containerisiertes hochverfügbares PostgreSQL – Schlank & robust \nPostgreSQL auf Kubernetes? – Kein Problem. Aber was ist\, wenn ich als Unternehmen weder die notwendigen gut ausgebildeten Mitarbeiter für Kubernetes besitze\, kein eigenes Kubernetes betrieben werden soll\, oder ein Managed Service in der Cloud aus regulatorischen Gründen ausscheidet? In diesem Vortrag möchten wir eine schlanke Lösung für containerisiertes\, hochverfügbares PostgreSQL aufzeigen\, welches klassiche Elemente mit Cloud native verbindet. \n20:15 – 21:00 – Vortrag Christoph Mönch-Tegeder >> PostgreSQL Connection Security and Compliance \nDatenbank-Verbindungen müssen abgesichert werden“ – steht in jeder\nSicherheitsrichtlinie und ist auch eigentlich selbstverständlich.\nWelche Optionen haben wir dazu in PostgreSQL und wie passen die zu\nden Anforderungen in relevanten Standards?“
URL:https://proventa.de/event/meetup-pug-was-gibt-es-neues-11-2023/
LOCATION:Proventa AG\, Untermainkai 29\, Frankfurt am Main\, Hessen\, 60329\, Deutschland
CATEGORIES:Display
ATTACH;FMTTYPE=image/png:https://proventa.de/wp-content/uploads/2023/10/Blue-Modern-Illustrated-Home-Toys-Banner-Store-1.png
END:VEVENT
BEGIN:VEVENT
DTSTART;TZID=Europe/Berlin:20230627T000000
DTEND;TZID=Europe/Berlin:20230627T235900
DTSTAMP:20260420T215549
CREATED:20230619T082853Z
LAST-MODIFIED:20230619T083149Z
UID:595000-1687824000-1687910340@proventa.de
SUMMARY:Proventa bei der PostgreSQL Conference Germany 2023 in Essen.
DESCRIPTION:Auch in diesem Jahr nehmen wir bei der PG Conference Germany in Essen teil und sind sogar mit einem Stand vertreten. Wir freuen uns auf Ihren Besuch und interessante Gespräche.
URL:https://proventa.de/event/proventa-bei-der-postgresql-conference-germany-2023-in-essen/
CATEGORIES:Display
ATTACH;FMTTYPE=image/jpeg:https://proventa.de/wp-content/uploads/2023/06/PGCONF2023.jpg
END:VEVENT
BEGIN:VEVENT
DTSTART;TZID=Europe/Madrid:20210227T080000
DTEND;TZID=Europe/Madrid:20210421T170000
DTSTAMP:20260420T215549
CREATED:20210128T224810Z
LAST-MODIFIED:20230619T101123Z
UID:117-1614412800-1619024400@proventa.de
SUMMARY:Webinar - Wie Sie in fünf Tagen Ihre brennenden Probleme lösen und valide Ergebnisse erzielen - und zwar so\, dass Sie als Manager Zeit\, Geld und Nerven sparen
DESCRIPTION:Brauchen Sie und Ihr Team Monate\, um hartnäckige Probleme zu lösen oder um Produkte zu verbessern\, anzupassen oder neu zu erfinden? Sind Sie gefangen im Denken in Autobahnen und starren Strukturen? Und wenn Sie dann die zündende Idee haben\, kommt Ihr Projekt nicht in die Gänge? Haben Sie den Glauben an eine schnelle Problemlösung oder Produktentwicklung verloren? Ganz zu schweigen von greifbaren Prototypen für Kundentests in kurzer Zeit.\nIn dem kostenlosen Webinar zeigen wir\, Dietmar G. Wiedemann (Proventa) und Maik Scheele (MSC)\, wie Sie und Ihr Team in fünf oder weniger Tagen Ideen und Konzepte entwickeln können\, die wirklich funktionieren. \nDeshalb sollten Sie teilnehmen \n\nWie Sie die schwierigsten Probleme schnell lösen und Ihre eigenen Ideen testen können\, auch wenn Sie denken\, dass Sie keine Ideen haben.\nWie Sie möglicherweise monatelange Arbeit in wenigen Tagen komprimieren und Spitzenergebnisse erzielen können.\nWie Sie echtes Nutzerfeedback bekommen\, ohne große Nutzerstudien durchzuführen.\n\nWenn Sie mehr über diese Lösung und Tipps im Detail erfahren möchten\, dann melden Sie sich jetzt für einen der wenigen Webinar-Termine an. \nZielgruppe\nFach- und Führungskräfte aus den Bereichen Produktentwicklung und Innovation\, Forschung und Entwicklung\, Business Development\, Vertrieb und Marketing\nProdukt-\, Projekt- und Innovationsmanager\, die neue Produkte und Angebote entwickeln wollen \nKOSTENLOSE REGISTRIERUNG FÜR DAS SEMINAR\nNach der Anmeldung erhält der Teilnehmer eine Bestätigungs-E-Mail mit den Informationen zur Teilnahme am Webinar.
URL:https://proventa.de/event/webinar-how-to-solve-your-burning-problems-and-achieve-valid-results-in-five-days-in-a-way-that-saves-you-as-a-manager-time-money-and-nerves/
CATEGORIES:Display
ATTACH;FMTTYPE=image/jpeg:https://proventa.de/wp-content/uploads/2021/01/Rectangle-66-4.jpg
END:VEVENT
BEGIN:VEVENT
DTSTART;TZID=Europe/Madrid:20210128T080000
DTEND;TZID=Europe/Madrid:20210128T170000
DTSTAMP:20260420T215549
CREATED:20210128T225044Z
LAST-MODIFIED:20230619T100529Z
UID:127-1611820800-1611853200@proventa.de
SUMMARY:Proventa auf den IT Tagen. Dezember 10 - 12\, Kap Europa congress center in Frankfurt am Main
DESCRIPTION:Auch in diesem Jahr sind wir wieder auf den IT-Tagen in Frankfurt am Main vertreten. Aufgrund der fachlichen Relevanz und des Standortes hat sich diese Messe zu einem zentralen Element für die Präsenz der Proventa AG entwickelt. Wir freuen uns auf Ihren Besuch. Sie finden uns am Stand 1.10\, wo wir gerne mit Ihnen ins Gespräch kommen.
URL:https://proventa.de/event/proventa-at-the-it-days-december-10-to-12-kap-europa-congress-center-in-frankfurt-am-main/
CATEGORIES:Display
ATTACH;FMTTYPE=image/jpeg:https://proventa.de/wp-content/uploads/2021/01/Rectangle-66-3.jpg
END:VEVENT
BEGIN:VEVENT
DTSTART;TZID=Europe/Madrid:20210128T080000
DTEND;TZID=Europe/Madrid:20210128T170000
DTSTAMP:20260420T215549
CREATED:20210128T224908Z
LAST-MODIFIED:20230619T100711Z
UID:125-1611820800-1611853200@proventa.de
SUMMARY:Webinar - Agile Program und Portfolio Management Spotify\, LeSS oder SAFe? Wie man den richtigen Rahmen wählt.
DESCRIPTION:Durch den gezielten Einsatz von agilen Frameworks wie Spotify\, LeSS und SAFe können typische Herausforderungen im Programmmanagement\, wie die richtige Priorisierung von Projekten oder das Management von Abhängigkeiten paralleler Projekte\, deutlich besser gemeistert werden.
URL:https://proventa.de/event/webinar-agile-program-and-portfolio-management-spotify-less-or-safe-how-to-choose-the-right-framework/
CATEGORIES:Display
ATTACH;FMTTYPE=image/jpeg:https://proventa.de/wp-content/uploads/2021/01/Rectangle-66-2.jpg
END:VEVENT
BEGIN:VEVENT
DTSTART;TZID=Europe/Madrid:20210128T080000
DTEND;TZID=Europe/Madrid:20210128T170000
DTSTAMP:20260420T215549
CREATED:20210128T224839Z
LAST-MODIFIED:20230619T100625Z
UID:123-1611820800-1611853200@proventa.de
SUMMARY:Webinar - OpenSpace Agility. Wie Sie agiles Arbeiten in 90 Tagen nachhaltig einführen können
DESCRIPTION:Das Jahr 19 bringt Unsicherheiten für alle mit sich. Für jede Organisation ist die Gesundheit ihrer Mitarbeiter und Geschäftspartner von größter Bedeutung. Besonders die Maßnahmen\, die für die schwächsten Mitglieder unserer Gesellschaft entscheidend sind. Zusätzlich zu diesen bereits großen Herausforderungen\, …
URL:https://proventa.de/event/webinar-openspace-agility-how-you-can-sustainably-introduce-agile-working-in-90-days/
CATEGORIES:Display
ATTACH;FMTTYPE=image/jpeg:https://proventa.de/wp-content/uploads/2021/01/Rectangle-66-1.jpg
END:VEVENT
END:VCALENDAR